BEGIN:VCALENDAR
VERSION:2.0
PRODID:-//Humana Medicina - ECPv6.15.16//NONSGML v1.0//EN
CALSCALE:GREGORIAN
METHOD:PUBLISH
X-WR-CALNAME:Humana Medicina
X-ORIGINAL-URL:https://www.humanamedicina.eu
X-WR-CALDESC:Eventi per Humana Medicina
REFRESH-INTERVAL;VALUE=DURATION:PT1H
X-Robots-Tag:noindex
X-PUBLISHED-TTL:PT1H
BEGIN:VTIMEZONE
TZID:Europe/Rome
BEGIN:DAYLIGHT
TZOFFSETFROM:+0100
TZOFFSETTO:+0200
TZNAME:CEST
DTSTART:20240331T010000
END:DAYLIGHT
BEGIN:STANDARD
TZOFFSETFROM:+0200
TZOFFSETTO:+0100
TZNAME:CET
DTSTART:20241027T010000
END:STANDARD
BEGIN:DAYLIGHT
TZOFFSETFROM:+0100
TZOFFSETTO:+0200
TZNAME:CEST
DTSTART:20250330T010000
END:DAYLIGHT
BEGIN:STANDARD
TZOFFSETFROM:+0200
TZOFFSETTO:+0100
TZNAME:CET
DTSTART:20251026T010000
END:STANDARD
BEGIN:DAYLIGHT
TZOFFSETFROM:+0100
TZOFFSETTO:+0200
TZNAME:CEST
DTSTART:20260329T010000
END:DAYLIGHT
BEGIN:STANDARD
TZOFFSETFROM:+0200
TZOFFSETTO:+0100
TZNAME:CET
DTSTART:20261025T010000
END:STANDARD
END:VTIMEZONE
BEGIN:VEVENT
DTSTART;TZID=Europe/Rome:20250508T180000
DTEND;TZID=Europe/Rome:20250508T200000
DTSTAMP:20260425T131018
CREATED:20250502T201413Z
LAST-MODIFIED:20250502T201713Z
UID:6894-1746727200-1746734400@www.humanamedicina.eu
SUMMARY:Dialoga con l'autore: Maria Sciortino presenta il suo libro “IO (MI) CURO – Una storia di tumori\, timori e trasformazioni “
DESCRIPTION:“Un viaggio tra scienza e coscienza\, un itinerario nei sentimenti e nelle fragilità\, la ricerca di un percorso di guarigione\, che diventa un percorso di auto-guarigione e di trasformazione” –https://www.humanamedicina.eu/2024/12/18/io-mi-curo-una-storia-di-tumori-timori-e-trasformazioni/ \nGiovedì 8 maggio\, per il ciclo di incontri “Dialoga con l’autore”\, Maria Sciortino presenta il suo libro “IO (MI) CURO – Una storia di tumori\, timori e trasformazioni “ \nPresso il Saloncino “La Pianta”\, via Giacomo Leopardi 7\, Corsico (MI) \nLetture con gli attori Micaela Turrisi e Andrea Bonati \nCon la partecipazione della Dott.ssa Luisa Merati\, Psicoterapeuta-Psychosomatic Specialist (ICPM)
URL:https://www.humanamedicina.eu/evento/dialoga-con-lautore-maria-sciortino-presenta-il-suo-libro-io-mi-curo-una-storia-di-tumori-timori-e-trasformazioni/
LOCATION:Saloncino “La Pianta”\, via Giacomo Leopardi 7\, Corsico (MI)
CATEGORIES:Eventi,Incontri e presentazioni
ATTACH;FMTTYPE=image/jpeg:https://www.humanamedicina.eu/wp-content/uploads/2025/05/4b63a036-02c6-4bf3-8cd4-a3a05d2bb869.jpg
END:VEVENT
END:VCALENDAR