BEGIN:VCALENDAR
VERSION:2.0
PRODID:-//Humana Medicina - ECPv6.15.16//NONSGML v1.0//EN
CALSCALE:GREGORIAN
METHOD:PUBLISH
X-WR-CALNAME:Humana Medicina
X-ORIGINAL-URL:https://www.humanamedicina.eu
X-WR-CALDESC:Eventi per Humana Medicina
REFRESH-INTERVAL;VALUE=DURATION:PT1H
X-Robots-Tag:noindex
X-PUBLISHED-TTL:PT1H
BEGIN:VTIMEZONE
TZID:Europe/Rome
BEGIN:DAYLIGHT
TZOFFSETFROM:+0100
TZOFFSETTO:+0200
TZNAME:CEST
DTSTART:20250330T010000
END:DAYLIGHT
BEGIN:STANDARD
TZOFFSETFROM:+0200
TZOFFSETTO:+0100
TZNAME:CET
DTSTART:20251026T010000
END:STANDARD
BEGIN:DAYLIGHT
TZOFFSETFROM:+0100
TZOFFSETTO:+0200
TZNAME:CEST
DTSTART:20260329T010000
END:DAYLIGHT
BEGIN:STANDARD
TZOFFSETFROM:+0200
TZOFFSETTO:+0100
TZNAME:CET
DTSTART:20261025T010000
END:STANDARD
BEGIN:DAYLIGHT
TZOFFSETFROM:+0100
TZOFFSETTO:+0200
TZNAME:CEST
DTSTART:20270328T010000
END:DAYLIGHT
BEGIN:STANDARD
TZOFFSETFROM:+0200
TZOFFSETTO:+0100
TZNAME:CET
DTSTART:20271031T010000
END:STANDARD
END:VTIMEZONE
BEGIN:VEVENT
DTSTART;TZID=Europe/Rome:20260303T093000
DTEND;TZID=Europe/Rome:20260323T180000
DTSTAMP:20260422T092417
CREATED:20210103T073545Z
LAST-MODIFIED:20260321T085800Z
UID:4264-1772530200-1774288800@www.humanamedicina.eu
SUMMARY:Corso annuale in Abilità di Counseling Relazionale
DESCRIPTION:Il Corso è riconosciuto da AssoCounseling. Alla fine del percorso viene rilasciato un attestato di partecipazione che riporta gli estremi del riconoscimento di AssoCounseling. \nIl percorso è circolare e consente di iniziare in qualsiasi momento dell’anno (compatibilmente con i posti disponibili). Sono aperte le iscrizioni. \n“Le abilità di counseling sono le capacità comunicative e relazionali che consentono di migliorare la gestione dei rapporti sia personali che professionali” (AssoCounseling). Sono molti gli ambiti in cui tali abilità si rivelano fondamentali e irrinunciabili\, diventando parte integrante\, quando non centrale\, delle proprie competenze\, ad es. l’ambito sanitario\, sociale\, famigliare\, pedagogico-scolastico\, libero professionale\, aziendale\, comunitario. \nObiettivi formativi del percorso: \n\nmigliorare le competenze di relazione e comunicazione\, sia in termini di ascolto (capacità empatiche) che in termini di chiarezza e trasparenza (congruenza);\nfavorire la consapevolezza e la padronanza di sé e delle proprie emozioni;\nacquisire le abilità necessarie per rendere efficace una relazione\, implementando le capacità di gestione e risoluzione dei conflitti\nfavorire la comunicazione quale strumento di promozione della salute e facilitante lo sviluppo di stili di vita salutari\n\nIl modello di counseling proposto è quello del Counseling Centrato sulla Persona secondo C. Rogers. \nIl Corso si sviluppa in 105 ore di formazione teorico-pratico-esperienziale in aula. Gli incontri si svolgono nei week end. \nSede del Corso e Segreteria Organizzativa: Associazione REF\, via Morimondo 5\, 20143 Milano\, tel. 02.36553120\, fax 02.36553121; info@associazioneref.org; www.associazioneref.org \nIl corso fornisce 105 crediti formativi per proseguire con il nostro corso triennale di Counseling Integrato CoMeTE. \nlocandina-Abilità-Counseling-relazionale-
URL:https://www.humanamedicina.eu/evento/corso-annuale-in-abilita-di-counseling-relazionale/
LOCATION:Associazione REF\, via Morimondo\, 5\, Milano\, 20143\, Italia
CATEGORIES:Associazione REF,Formazione,Percorsi formativi
ATTACH;FMTTYPE=image/jpeg:https://www.humanamedicina.eu/wp-content/uploads/2017/12/Logo-Ref-01-e1609659506983.jpg
ORGANIZER;CN="Associazione REF":MAILTO:info@associazioneref.org
END:VEVENT
END:VCALENDAR