BEGIN:VCALENDAR
VERSION:2.0
PRODID:-//Humana Medicina - ECPv6.15.16//NONSGML v1.0//EN
CALSCALE:GREGORIAN
METHOD:PUBLISH
X-ORIGINAL-URL:https://www.humanamedicina.eu
X-WR-CALDESC:Eventi per Humana Medicina
REFRESH-INTERVAL;VALUE=DURATION:PT1H
X-Robots-Tag:noindex
X-PUBLISHED-TTL:PT1H
BEGIN:VTIMEZONE
TZID:UTC
BEGIN:STANDARD
TZOFFSETFROM:+0000
TZOFFSETTO:+0000
TZNAME:UTC
DTSTART:20210101T000000
END:STANDARD
END:VTIMEZONE
BEGIN:VEVENT
DTSTART;TZID=UTC:20220219T080000
DTEND;TZID=UTC:20220620T170000
DTSTAMP:20260421T170304
CREATED:20220323T221023Z
LAST-MODIFIED:20220323T222050Z
UID:5389-1645257600-1655744400@www.humanamedicina.eu
SUMMARY:Executive Fitoterapia: Le piante officinali come strumenti di cura
DESCRIPTION:Un percorso formativo d’eccellenza\, promosso da Prodeco Pharma\, per comprendere come gestire al meglio la consulenza personalizzata a 360° e l’utilizzo dei protocolli terapeutici che impiegano i prodotti fitoterapici come strumenti di qualità per la cura e la prevenzione di moltissime patologie. \nLa Fitoterapia è la scienza medica che studia il corretto utilizzo delle piante medicinali e dei loro derivati\, allo scopo di trattare e prevenire svariate problematiche di salute\, aiutando l’organismo a raggiungere e mantenere il suo naturale equilibrio fisiologico. Le controindicazioni e gli effetti collaterali dovuti dall’abuso di farmaci di sintesi\, riconducibili al loro scorretto utilizzo e spesso ad una scorretta attività prescrittiva\, hanno rinnovato l’interesse verso gli approcci curativi “naturali”\, creando una maggior sensibilità nei confronti dei rimedi naturali. \nLa docenza è affidata professori universitari e medici\, riconosciuti e apprezzati come eccellenze nei loro settori di competenza. \nScarica la brochure del corso: \nMaggiori dettagli al link: \nImmagine: da pixabay.com – autore: monikasmigielska
URL:https://www.humanamedicina.eu/evento/executive-fitoterapia-le-piante-officinali-come-strumenti-di-cura/
CATEGORIES:Formazione,Percorsi formativi
ATTACH;FMTTYPE=image/jpeg:https://www.humanamedicina.eu/wp-content/uploads/2022/03/dandelion-g951cc3cce_1920.jpg
END:VEVENT
END:VCALENDAR