BEGIN:VCALENDAR
VERSION:2.0
PRODID:-//Humana Medicina - ECPv6.15.16//NONSGML v1.0//EN
CALSCALE:GREGORIAN
METHOD:PUBLISH
X-WR-CALNAME:Humana Medicina
X-ORIGINAL-URL:https://www.humanamedicina.eu
X-WR-CALDESC:Eventi per Humana Medicina
REFRESH-INTERVAL;VALUE=DURATION:PT1H
X-Robots-Tag:noindex
X-PUBLISHED-TTL:PT1H
BEGIN:VTIMEZONE
TZID:Europe/Rome
BEGIN:DAYLIGHT
TZOFFSETFROM:+0100
TZOFFSETTO:+0200
TZNAME:CEST
DTSTART:20230326T010000
END:DAYLIGHT
BEGIN:STANDARD
TZOFFSETFROM:+0200
TZOFFSETTO:+0100
TZNAME:CET
DTSTART:20231029T010000
END:STANDARD
BEGIN:DAYLIGHT
TZOFFSETFROM:+0100
TZOFFSETTO:+0200
TZNAME:CEST
DTSTART:20240331T010000
END:DAYLIGHT
BEGIN:STANDARD
TZOFFSETFROM:+0200
TZOFFSETTO:+0100
TZNAME:CET
DTSTART:20241027T010000
END:STANDARD
BEGIN:DAYLIGHT
TZOFFSETFROM:+0100
TZOFFSETTO:+0200
TZNAME:CEST
DTSTART:20250330T010000
END:DAYLIGHT
BEGIN:STANDARD
TZOFFSETFROM:+0200
TZOFFSETTO:+0100
TZNAME:CET
DTSTART:20251026T010000
END:STANDARD
END:VTIMEZONE
BEGIN:VEVENT
DTSTART;TZID=Europe/Rome:20241130T090000
DTEND;TZID=Europe/Rome:20241201T193000
DTSTAMP:20260423T183032
CREATED:20240701T101055Z
LAST-MODIFIED:20241104T140701Z
UID:6476-1732957200-1733081400@www.humanamedicina.eu
SUMMARY:Love Heals - Seminario di Franco Bianchi a Torino
DESCRIPTION:Sabato 30 novembre e domenica 1 dicembre 2024 Franco Bianchi torna a Torino con il suo seminario LOVE HEALS. \nLove Heals è una tecnica di riequilibrio energetico che esplora la relazione esistente tra il nostro corpo\, la nostra coscienza e la nostra stessa vita\, permettendoci\, in caso di disequilibrio\, di ritornare ad uno stato di armonia\, di centratura e di benessere. \nNel week-end viene insegnata l’intera tecnica. \nIl seminario Love Heals è sia teorico che pratico. \nPRESENTAZIONE ON-LINE con Franco Bianchi\, aperta a tutti e gratuita – mercoledì 6 novembre 2024\, ore 20.30 attraverso la piattaforma Zoom con questo link di accesso: \nEntra Zoom Riunione\nhttps://us02web.zoom.us/j/82694842108?pwd=RzcyYm9DV0YyRlR4dEMvUnd2ckd5Zz09 \nID riunione: 826 9484 2108\nCodice d’accesso: 813494 \nPRESENTAZIONE IN PRESENZA con dimostrazione pratica della tecnica di LOVE HEALS\, venerdì 29 novembre 2024\, dalle 18.30 alle 20.30\, presso hotel Victoria\, via Nino Costa\, 4 – TORINO – Ingresso aperto a tutti e gratuito – posti limitati – prenotazione obbligatoria  \nSEMINARIO PRATICO con Franco Bianchi\, IN PRESENZA\, sabato 30 novembre e domenica 1 dicembre 2024 – TORINO. Con orario: sabato 9.00/19.30 – domenica 9.00/19.00 circa. \nIl seminario è a numero chiuso: max 18/20 persone. \nQuota di partecipazione 300 € manuale incluso\, oppure 250€ per chi prenota la propria partecipazione compilando semplicemente un modulo di iscrizione entro il 30 settembre \nINFORMAZIONI e ISCRIZIONI: rosetta.sambati@gmail.com – 339 4035012 \nScarica la LOCANDINA LOVE HEALS nov. 2024. cliccando qui: \nFranco Bianchi\, laureato in Economia alla Bocconi\, si occupa da oltre quarant’anni di percorsi di consapevolezza. Ha creato un suo metodo – BE HAPPY NOW – che divulga essenzialmente attraverso quattro suoi seminari. \nNel 2015 è stato pubblicato da Tecniche Nuove il suo libro ESSERE FELICI ORA in cui presenta le basi del suo metodo. \nFranco ha collaborato per qualche tempo con l’ospedale regionale di Monza\, il San Gerardo\, in un progetto con un gruppo di ammalati di leucemia. Questo progetto va visto in un’ottica di Medicina Integrata ed ha avuto dei risultati molto positivi e incoraggianti. \nNel 2010 ha fondato una scuola per Operatori Olistici\, riconosciuta dalla S.I.A.F\, così come lo sono i suoi seminari. \nClicca qui per visionare un breve video di presentazione di Franco Bianchi: \nhttps://www.youtube.com/watch?v=pUp5XgoRKes \n  \n  \n  \n  \n 
URL:https://www.humanamedicina.eu/evento/love-heals-ogni-sintomo-e-un-messaggio/
LOCATION:Hotel Victoria\, Via Nino Costa 4\, Torino
CATEGORIES:Eventi,Formazione,Seminari
ATTACH;FMTTYPE=image/jpeg:https://www.humanamedicina.eu/wp-content/uploads/2024/07/Franco-con-poster-chakra.jpg
END:VEVENT
END:VCALENDAR