BEGIN:VCALENDAR
VERSION:2.0
PRODID:-//Humana Medicina - ECPv6.15.16//NONSGML v1.0//EN
CALSCALE:GREGORIAN
METHOD:PUBLISH
X-WR-CALNAME:Humana Medicina
X-ORIGINAL-URL:https://www.humanamedicina.eu
X-WR-CALDESC:Eventi per Humana Medicina
REFRESH-INTERVAL;VALUE=DURATION:PT1H
X-Robots-Tag:noindex
X-PUBLISHED-TTL:PT1H
BEGIN:VTIMEZONE
TZID:Europe/Rome
BEGIN:DAYLIGHT
TZOFFSETFROM:+0100
TZOFFSETTO:+0200
TZNAME:CEST
DTSTART:20180325T010000
END:DAYLIGHT
BEGIN:STANDARD
TZOFFSETFROM:+0200
TZOFFSETTO:+0100
TZNAME:CET
DTSTART:20181028T010000
END:STANDARD
BEGIN:DAYLIGHT
TZOFFSETFROM:+0100
TZOFFSETTO:+0200
TZNAME:CEST
DTSTART:20190331T010000
END:DAYLIGHT
BEGIN:STANDARD
TZOFFSETFROM:+0200
TZOFFSETTO:+0100
TZNAME:CET
DTSTART:20191027T010000
END:STANDARD
BEGIN:DAYLIGHT
TZOFFSETFROM:+0100
TZOFFSETTO:+0200
TZNAME:CEST
DTSTART:20200329T010000
END:DAYLIGHT
BEGIN:STANDARD
TZOFFSETFROM:+0200
TZOFFSETTO:+0100
TZNAME:CET
DTSTART:20201025T010000
END:STANDARD
BEGIN:DAYLIGHT
TZOFFSETFROM:+0100
TZOFFSETTO:+0200
TZNAME:CEST
DTSTART:20210328T010000
END:DAYLIGHT
BEGIN:STANDARD
TZOFFSETFROM:+0200
TZOFFSETTO:+0100
TZNAME:CET
DTSTART:20211031T010000
END:STANDARD
BEGIN:DAYLIGHT
TZOFFSETFROM:+0100
TZOFFSETTO:+0200
TZNAME:CEST
DTSTART:20220327T010000
END:DAYLIGHT
BEGIN:STANDARD
TZOFFSETFROM:+0200
TZOFFSETTO:+0100
TZNAME:CET
DTSTART:20221030T010000
END:STANDARD
BEGIN:DAYLIGHT
TZOFFSETFROM:+0100
TZOFFSETTO:+0200
TZNAME:CEST
DTSTART:20230326T010000
END:DAYLIGHT
BEGIN:STANDARD
TZOFFSETFROM:+0200
TZOFFSETTO:+0100
TZNAME:CET
DTSTART:20231029T010000
END:STANDARD
BEGIN:DAYLIGHT
TZOFFSETFROM:+0100
TZOFFSETTO:+0200
TZNAME:CEST
DTSTART:20240331T010000
END:DAYLIGHT
BEGIN:STANDARD
TZOFFSETFROM:+0200
TZOFFSETTO:+0100
TZNAME:CET
DTSTART:20241027T010000
END:STANDARD
BEGIN:DAYLIGHT
TZOFFSETFROM:+0100
TZOFFSETTO:+0200
TZNAME:CEST
DTSTART:20250330T010000
END:DAYLIGHT
BEGIN:STANDARD
TZOFFSETFROM:+0200
TZOFFSETTO:+0100
TZNAME:CET
DTSTART:20251026T010000
END:STANDARD
BEGIN:DAYLIGHT
TZOFFSETFROM:+0100
TZOFFSETTO:+0200
TZNAME:CEST
DTSTART:20260329T010000
END:DAYLIGHT
BEGIN:STANDARD
TZOFFSETFROM:+0200
TZOFFSETTO:+0100
TZNAME:CET
DTSTART:20261025T010000
END:STANDARD
END:VTIMEZONE
BEGIN:VEVENT
DTSTART;TZID=Europe/Rome:20250518T093000
DTEND;TZID=Europe/Rome:20250518T180000
DTSTAMP:20260425T145103
CREATED:20250414T212840Z
LAST-MODIFIED:20250414T213950Z
UID:6865-1747560600-1747591200@www.humanamedicina.eu
SUMMARY:Cellule di Musica
DESCRIPTION: Esploriamo l’invisibile grazie ai biofotoni\, per capire come l’Arte parla alla nostra Biologia \nDomenica 18 maggio 2025 a Senigallia\, dalle ore 10.00 alle ore 18.00 \nIn questa giornata speciale il Prof. Carlo Ventura e il Dott. Emiliano Toso ci faranno vivere un viaggio affascinante nel mondo delle nostre cellule\, della nostra musica e delle nostre emozioni. \nQuesti 3 elementi\, così misteriosi alla nostra immaginazione\, saranno visibili a tutti anche grazie al contributo di Daniele Gullà e della sua tecnologia iperspettrale\, e ognuno dei presenti potrà partecipare attivamente a questa esperienza così rivoluzionaria e innovativa \nProgramma e modalità di iscrizione e partecipazione al link: \nhttps://www.emilianotoso.com/landing/ventura-18-maggio-2025/ \n 
URL:https://www.humanamedicina.eu/evento/cellule-di-musica/
LOCATION:Finis Africae\, Senigallia (AN)
CATEGORIES:Convegni,Eventi
ATTACH;FMTTYPE=image/png:https://www.humanamedicina.eu/wp-content/uploads/2025/04/Ventura-18mag2025_3.png
END:VEVENT
BEGIN:VEVENT
DTSTART;TZID=Europe/Rome:20240507T140000
DTEND;TZID=Europe/Rome:20240507T173000
DTSTAMP:20260425T145103
CREATED:20240419T133031Z
LAST-MODIFIED:20240419T192717Z
UID:6355-1715090400-1715103000@www.humanamedicina.eu
SUMMARY:Concerto Convegno di EMILIANO TOSO a favore della Fondazione Un Passo Insieme
DESCRIPTION:Un evento patrocinato dall’Istituto Nazionale di Bioarchitettura\, a Torino\, martedì 7 maggio 2024\, dalle ore 14.00 alle 17.30\, presso l’Aula Magna della Cavallerizza Reale\, via G. Verdi 9. \n\n\nDalle ore 14.30 alle 16.30 si svolgerà il convegno-concerto del Biologo Cellulare e Musicista Compositore a 432Hz Emiliano Toso\, che torna alla Cavallerizza Reale dopo 6 anni e\, con i prestigiosi relatori del convegno\, ci farà comprendere come l’ambiente  che ci circonda rivesta un ruolo importantissimo per il benessere e la salute psico-fisica. \nIngresso libero e aperto a tutti fino a esaurimento posti. \n\nScarica il programma completo cliccando qui: \nMaggiori dettagli: https://www.bioarchitettura.it/eventi/concerto-convegno-di-emiliano-toso-a-favore-della-fondazione-un-passo-insieme/
URL:https://www.humanamedicina.eu/evento/concerto-convegno-di-emiliano-toso-a-favore-della-fondazione-un-passo-insieme/
LOCATION:Aula Magna Cavallerizza Reale\, Via Verdi\, 9\, Torino\, Italia
ATTACH;FMTTYPE=image/jpeg:https://www.humanamedicina.eu/wp-content/uploads/2024/04/evento-cavallerizza-524.jpg
END:VEVENT
BEGIN:VEVENT
DTSTART;TZID=Europe/Rome:20210417T203000
DTEND;TZID=Europe/Rome:20210417T223000
DTSTAMP:20260425T145103
CREATED:20210311T140753Z
LAST-MODIFIED:20210325T204006Z
UID:4464-1618691400-1618698600@www.humanamedicina.eu
SUMMARY:Il Suono della Vita - concerto in streaming di Emiliano Toso e Lorena Borsetti
DESCRIPTION:Arte e Scienza si incontrano nel concerto IL SUONO DELLA VITA. \n“Qual è la colonna sonora della tua vita? L’Universo nel quale siamo immersi ha una vastità di luci\, di colori\, di suoni che l’essere umano non potrà mai comprendere attraverso i sensi e nel concerto in streaming IL SUONO DELLA VITA\, ci addentreremo nella percezione dell’invisibile …” \nSabato 17 aprile 2021\, ore 20:45: \nConcerto a 432Hz | Il Suono della Vita con Emiliano Toso e Lorena Borsetti | \nIn diretta e in differita. \nPer ulteriori dettagli e iscrizioni\, cliccare al seguente link: \nhttps://www.eventbrite.it/e/biglietti-concerto-a-432hz-il-suono-della-vita-con-emiliano-toso-e-lorena-borsetti-145329770255?discount=Rosettasambati \nEmiliano Toso\, biologo molecolare e musicista compositore\, attento alle nuove prospettive dell’epigenetica e della nuova biologia\, ha creato il progetto di Translational Music. Traducendo le vibrazioni universali e favorendo il benessere fisico ed emozionale\, le sue composizioni sono utilizzate in vari laboratori di ricerca scientifica quali l’istituto Marques di Barcellona\, e in diversi ospedali come il San Raffaele di Milano\, il Bambin Gesù\, il San Camillo\, il Gemelli di Roma e\, non ultimo\, l’ospedale pediatrico di Ancona dove il Prof. Roberto Trignani\, dirigente medico di scienze neurologiche dell’azienda Ospedali Riuniti di Ancona\, ha eseguito un delicato intervento chirurgico su un bambino di 10 anni\, mentre Emiliano Toso suonava un pianoforte a coda\, in sala operatoria! \n  \n  \n  \n  \n 
URL:https://www.humanamedicina.eu/evento/il-suono-della-vita-concerto-in-streaming-di-emiliano-toso/
CATEGORIES:Eventi,Evento in diretta streaming
ATTACH;FMTTYPE=image/png:https://www.humanamedicina.eu/wp-content/uploads/2021/03/Schermata-2021-03-11-alle-14.24.59.png
END:VEVENT
BEGIN:VEVENT
DTSTART;TZID=Europe/Rome:20190413T170000
DTEND;TZID=Europe/Rome:20190413T190000
DTSTAMP:20260425T145103
CREATED:20190402T095945Z
LAST-MODIFIED:20190402T100732Z
UID:3544-1555174800-1555182000@www.humanamedicina.eu
SUMMARY:Rinascita: biologia e musica con Emiliano Toso
DESCRIPTION:Un’esperienza che unisce biologia\, musica e danza nella sinfonia della Vita! \nCon Emiliano Toso\, Biologo Cellulare e Musicista Compositore a 432 Hz\, al pianoforte\, \ne con la partecipazione di Lorena Borsetti al violoncello e Alice Serra alla danza. \nSabato 13 aprile 2019\, alle ore 17.00 nella splendida cornice dell’Oratorio San Filippo Neri\, in via Maria Vittoria\, 5 – Torino. \nLocandina: \nPosti limitati – prenotazione obbligatoria a : rosetta.sambati@gmail.com \n 
URL:https://www.humanamedicina.eu/evento/rinascita-biologia-e-musica-con-emiliano-toso/
LOCATION:Oratorio San Filippo Neri\, Via Maria Vittoria\, 5\, Torino\, Italia
CATEGORIES:Convegni,Eventi
ATTACH;FMTTYPE=image/jpeg:https://www.humanamedicina.eu/wp-content/uploads/2019/04/Copertina-Rinascita.jpg
END:VEVENT
END:VCALENDAR