BEGIN:VCALENDAR
VERSION:2.0
PRODID:-//Humana Medicina - ECPv6.15.16//NONSGML v1.0//EN
CALSCALE:GREGORIAN
METHOD:PUBLISH
X-WR-CALNAME:Humana Medicina
X-ORIGINAL-URL:https://www.humanamedicina.eu
X-WR-CALDESC:Eventi per Humana Medicina
REFRESH-INTERVAL;VALUE=DURATION:PT1H
X-Robots-Tag:noindex
X-PUBLISHED-TTL:PT1H
BEGIN:VTIMEZONE
TZID:Europe/Rome
BEGIN:DAYLIGHT
TZOFFSETFROM:+0100
TZOFFSETTO:+0200
TZNAME:CEST
DTSTART:20140330T010000
END:DAYLIGHT
BEGIN:STANDARD
TZOFFSETFROM:+0200
TZOFFSETTO:+0100
TZNAME:CET
DTSTART:20141026T010000
END:STANDARD
BEGIN:DAYLIGHT
TZOFFSETFROM:+0100
TZOFFSETTO:+0200
TZNAME:CEST
DTSTART:20150329T010000
END:DAYLIGHT
BEGIN:STANDARD
TZOFFSETFROM:+0200
TZOFFSETTO:+0100
TZNAME:CET
DTSTART:20151025T010000
END:STANDARD
BEGIN:DAYLIGHT
TZOFFSETFROM:+0100
TZOFFSETTO:+0200
TZNAME:CEST
DTSTART:20160327T010000
END:DAYLIGHT
BEGIN:STANDARD
TZOFFSETFROM:+0200
TZOFFSETTO:+0100
TZNAME:CET
DTSTART:20161030T010000
END:STANDARD
BEGIN:DAYLIGHT
TZOFFSETFROM:+0100
TZOFFSETTO:+0200
TZNAME:CEST
DTSTART:20170326T010000
END:DAYLIGHT
BEGIN:STANDARD
TZOFFSETFROM:+0200
TZOFFSETTO:+0100
TZNAME:CET
DTSTART:20171029T010000
END:STANDARD
BEGIN:DAYLIGHT
TZOFFSETFROM:+0100
TZOFFSETTO:+0200
TZNAME:CEST
DTSTART:20180325T010000
END:DAYLIGHT
BEGIN:STANDARD
TZOFFSETFROM:+0200
TZOFFSETTO:+0100
TZNAME:CET
DTSTART:20181028T010000
END:STANDARD
END:VTIMEZONE
BEGIN:VEVENT
DTSTART;TZID=Europe/Rome:20171025T203000
DTEND;TZID=Europe/Rome:20171025T223000
DTSTAMP:20260423T063416
CREATED:20171010T143007Z
LAST-MODIFIED:20171021T233951Z
UID:2139-1508963400-1508970600@www.humanamedicina.eu
SUMMARY:OGNI SINTOMO E' UN MESSAGGIO
DESCRIPTION:Conferenza con Franco Bianchi \nDurante questo incontro Franco Bianchi ci farà comprendere come il nostro corpo sia lo specchio della nostra coscienza e che ogni sintomo è un messaggio per noi! INGRESSO LIBERO – gradito cenno di adesione. \nINFORMAZIONI: rosetta.sambati@gmail.com \nFranco Bianchi\, laureato in Economia alla Bocconi\, si occupa da ormai quarant’anni di percorsi di consapevolezza. Ha creato un suo metodo – BE HAPPY NOW – che divulga essenzialmente attraverso quattro suoi seminari. Nel 2015 è stato pubblicato da Tecniche Nuove il suo nuovo libro: ESSERE FELICI ORA. Ha collaborato per qualche tempo con l’ospedale regionale di Monza in un progetto con un gruppo di ammalati di leucemia\, progetto che ha avuto dei risultati molto positivi ed incoraggianti e va visto in un’ottica di Medicina Integrata. Nel 2010 ha fondato una scuola per Operatori Olistici\, riconosciuta dalla SIAF\, così come lo sono i suoi seminari. \n 
URL:https://www.humanamedicina.eu/evento/sintomo-un-messaggio/
LOCATION:Libreria Fenice\, via Porta Palatina\, 2\, Torino\, TO\, Italia
CATEGORIES:Conferenze
ATTACH;FMTTYPE=image/jpeg:https://www.humanamedicina.eu/wp-content/uploads/2017/10/Love-happy-trasparente.jpg
ORGANIZER;CN="Rosetta Sambati":MAILTO:rosetta.sambati@gmail.com
END:VEVENT
BEGIN:VEVENT
DTSTART;TZID=Europe/Rome:20171021T093000
DTEND;TZID=Europe/Rome:20171022T180000
DTSTAMP:20260423T063416
CREATED:20170721T102707Z
LAST-MODIFIED:20170721T103946Z
UID:1797-1508578200-1508695200@www.humanamedicina.eu
SUMMARY:Le Costellazioni Famigliari nelle relazioni di aiuto - seminario
DESCRIPTION:Di cosa si tratta?\nMolte problematiche e disagi della nostra vita quotidiana hanno origine nella nostra infanzia. Fin da piccoli riceviamo un condizionamento dal mondo adulto che gradualmente ci modifica e ci allontana da quella che è la nostra natura fondamentale. Questa però è la vera fonte del nostro benessere e di tutta la nostra forza. Quando dobbiamo prenderci cura di un ammalato\, come parenti o care-givers\, riprendere contato con essa ci può far ritrovare tutta la forza e la saggezza del nostro bambino interiore così necessari per comprendere i bisogni nostri e dell’altro. \nPerché lavorare con le Costellazioni Familiari?\nLe Costellazioni Familiari ci permettono di accedere ad una visione più profonda ed articolata del nostro vissuto e lasciano emergere ciò che sovente non vediamo\, a causa dei nostri condizionamenti. La rappresentazione della nostra situazione ad opera degli altri partecipanti\, mostra spesso dinamiche e correlazioni che consciamente non eravamo stati in grado di cogliere. Comprendiamo come\, nel legame esistente fra noi ed i membri della nostra famiglia\, ereditiamo non solo le convinzioni\, le espressioni emotive\, le credenze culturali ma talvolta anche i destini di salute e malattia.\nLa comprensione di queste dinamiche nascoste porta ad un “rilassamento” interiore\, condizione necessaria alla guarigione e alla trasformazione.\nCome partecipare ad un gruppo di costellazioni: essere costellante\, essere rappresentante.\nTalvolta possiamo desiderare di partecipare ad un gruppo di costellazioni perché abbiamo una problematica che ci reca disturbo e desideriamo capirne le cause.\nAllora decidiamo di costellare la nostra situazione\, che si chiamerà costellazione.\nNel gruppo quindi\, una volta esposto il problema in modo conciso\, il facilitatore in costellazioni ci chiederà di scegliere dei rappresentanti all’interno del gruppo al fine di rappresentare i membri della situazione sulla quale vogliamo portare maggiore chiarezza.\nTalvolta invece\, possiamo non avere una questione bruciante sulla quale chiedere un chiarimento\, ma desideriamo semplicemente conoscere meglio questo strumento di conoscenza di sé.\nPossiamo allora partecipare al gruppo come rappresentante. In questo modo partecipiamo come rappresentanti alle costellazioni degli altri.\nMa nell’essere scelti spesso ci ritroviamo a vivere e rappresentare tematiche molto vicine alla nostra vita. Potremmo per esempio essere chiamati a rappresentare una figlia ribelle contro la madre\, ed in tal modo comprenderemo cosa succede con la nostra stessa figlia. O un padre che abbandona la famiglia perché non è mai stato amato\, e forse comprenderemo cosa succedeva con il nostro stesso genitore.\nNon solo\, partecipare alle costellazioni degli altri ci porta a fare l’esperienza\, e quindi a comprendere\, come siamo tutti profondamente interconnessi\, e come in un sistema\, il destino e le scelte di ognuno risuonano profondamente su tutti gli altri. \nDocente\nNico Anugraha Breglia\nNata a Milano nel 1960. Pratica la meditazione da più di 20 anni ed è stata istruttrice presso Rigpa.\nDal 1997 ha intrapreso un percorso di conoscenza di sè e di sviluppo personale sotto la guida di terapeuti internazionali che si occupano della guarigione della persona considerandone i molteplici aspetti: fisici\, psichici\, spirituali. Ha terminato la sua formazione in Costellazioni Familiari e Sistemiche presso il centro Studi Hellinger di Milano nel 2004.\nHa studiato con Nitamo Montecucco al Villaggio Globale – Accademia Olistica.\nContinua lo studio e la supervisione delle costellazioni familiari e sistemiche con Christiane Perreau in Francia. É diplomata in Twice Born – Primal Therapy e Childhood Deconditioning.\nÉ Reconnective Healing practitioner con il metodo the Reconnection\nE’ diplomata in Subtle Body Healing.\nE’ formata nell’accompagnamento empatico con Tonglen France.\nNel 2009 ha terminato un ritiro di tre anni sotto la guida del maestro tibetano Sogyal Rinpoche\, autore del Libro Tibetano del Vivere e del Morire.\nAnima gruppi e sessioni individuali di Costellazioni Familiari e lavoro sul Bambino Interiore in Francia\, Italia e India. \nA chi si rivolge\nA chiunque desideri approfondire la propria conoscenza sul tema delle costellazioni familiari o che desideri approfondire la conoscenza di sé e\, in particolare a chi accompagna un ammalato in quanto parente\, operatore sanitario o volontario. \nCosti in dettaglio \nCosti: € 160 per chi vuole costellare\n€ 60 per chi vuole essere rappresentante\n€ 20 quota associativa\, per chi non è già socio Tonglen 2017
URL:https://www.humanamedicina.eu/evento/le-costellazioni-famigliari-nelle-relazioni-aiuto-3/
LOCATION:Associazione Tonglen\, via Massena\, 82\, Torino\, TO\, 10128\, Italia
CATEGORIES:Associazione Tonglen,Seminari
ATTACH;FMTTYPE=image/jpeg:https://www.humanamedicina.eu/wp-content/uploads/2017/07/logo_tonglen.jpg
ORGANIZER;CN="Associazione Tonglen":MAILTO:tonglen@libero.it
END:VEVENT
BEGIN:VEVENT
DTSTART;TZID=Europe/Rome:20171020T190000
DTEND;TZID=Europe/Rome:20171020T213000
DTSTAMP:20260423T063416
CREATED:20170721T102104Z
LAST-MODIFIED:20170721T104043Z
UID:1792-1508526000-1508535000@www.humanamedicina.eu
SUMMARY:Le Costellazioni Famigliari nelle relazioni di aiuto - serata introduttiva
DESCRIPTION:Di cosa si tratta?\nMolte problematiche e disagi della nostra vita quotidiana hanno origine nella nostra infanzia. Fin da piccoli riceviamo un condizionamento dal mondo adulto che gradualmente ci modifica e ci allontana da quella che è la nostra natura fondamentale. Questa però è la vera fonte del nostro benessere e di tutta la nostra forza. Quando dobbiamo prenderci cura di un ammalato\, come parenti o care-givers\, riprendere contato con essa ci può far ritrovare tutta la forza e la saggezza del nostro bambino interiore così necessari per comprendere i bisogni nostri e dell’altro. \nPerché lavorare con le Costellazioni Familiari?\nLe Costellazioni Familiari ci permettono di accedere ad una visione più profonda ed articolata del nostro vissuto e lasciano emergere ciò che sovente non vediamo\, a causa dei nostri condizionamenti. La rappresentazione della nostra situazione ad opera degli altri partecipanti\, mostra spesso dinamiche e correlazioni che consciamente non eravamo stati in grado di cogliere. Comprendiamo come\, nel legame esistente fra noi ed i membri della nostra famiglia\, ereditiamo non solo le convinzioni\, le espressioni emotive\, le credenze culturali ma talvolta anche i destini di salute e malattia.\nLa comprensione di queste dinamiche nascoste porta ad un “rilassamento” interiore\, condizione necessaria alla guarigione e alla trasformazione.\nCome partecipare ad un gruppo di costellazioni: essere costellante\, essere rappresentante.\nTalvolta possiamo desiderare di partecipare ad un gruppo di costellazioni perché abbiamo una problematica che ci reca disturbo e desideriamo capirne le cause.\nAllora decidiamo di costellare la nostra situazione\, che si chiamerà costellazione.\nNel gruppo quindi\, una volta esposto il problema in modo conciso\, il facilitatore in costellazioni ci chiederà di scegliere dei rappresentanti all’interno del gruppo al fine di rappresentare i membri della situazione sulla quale vogliamo portare maggiore chiarezza.\nTalvolta invece\, possiamo non avere una questione bruciante sulla quale chiedere un chiarimento\, ma desideriamo semplicemente conoscere meglio questo strumento di conoscenza di sé.\nPossiamo allora partecipare al gruppo come rappresentante. In questo modo partecipiamo come rappresentanti alle costellazioni degli altri.\nMa nell’essere scelti spesso ci ritroviamo a vivere e rappresentare tematiche molto vicine alla nostra vita. Potremmo per esempio essere chiamati a rappresentare una figlia ribelle contro la madre\, ed in tal modo comprenderemo cosa succede con la nostra stessa figlia. O un padre che abbandona la famiglia perché non è mai stato amato\, e forse comprenderemo cosa succedeva con il nostro stesso genitore.\nNon solo\, partecipare alle costellazioni degli altri ci porta a fare l’esperienza\, e quindi a comprendere\, come siamo tutti profondamente interconnessi\, e come in un sistema\, il destino e le scelte di ognuno risuonano profondamente su tutti gli altri. \nDocente\nNico Anugraha Breglia\nNata a Milano nel 1960. Pratica la meditazione da più di 20 anni ed è stata istruttrice presso Rigpa.\nDal 1997 ha intrapreso un percorso di conoscenza di sè e di sviluppo personale sotto la guida di terapeuti internazionali che si occupano della guarigione della persona considerandone i molteplici aspetti: fisici\, psichici\, spirituali. Ha terminato la sua formazione in Costellazioni Familiari e Sistemiche presso il centro Studi Hellinger di Milano nel 2004.\nHa studiato con Nitamo Montecucco al Villaggio Globale – Accademia Olistica.\nContinua lo studio e la supervisione delle costellazioni familiari e sistemiche con Christiane Perreau in Francia. É diplomata in Twice Born – Primal Therapy e Childhood Deconditioning.\nÉ Reconnective Healing practitioner con il metodo the Reconnection\nE’ diplomata in Subtle Body Healing.\nE’ formata nell’accompagnamento empatico con Tonglen France.\nNel 2009 ha terminato un ritiro di tre anni sotto la guida del maestro tibetano Sogyal Rinpoche\, autore del Libro Tibetano del Vivere e del Morire.\nAnima gruppi e sessioni individuali di Costellazioni Familiari e lavoro sul Bambino Interiore in Francia\, Italia e India. \nA chi si rivolge\nA chiunque desideri approfondire la propria conoscenza sul tema delle costellazioni familiari o che desideri approfondire la conoscenza di sé e\, in particolare a chi accompagna un ammalato in quanto parente\, operatore sanitario o volontario.
URL:https://www.humanamedicina.eu/evento/le-costellazioni-famigliari-nelle-relazioni-aiuto-2/
LOCATION:Associazione Tonglen\, via Massena\, 82\, Torino\, TO\, 10128\, Italia
CATEGORIES:Associazione Tonglen,Incontri e presentazioni
ATTACH;FMTTYPE=image/jpeg:https://www.humanamedicina.eu/wp-content/uploads/2017/07/logo_tonglen.jpg
ORGANIZER;CN="Associazione Tonglen":MAILTO:tonglen@libero.it
END:VEVENT
BEGIN:VEVENT
DTSTART;TZID=Europe/Rome:20171020T093000
DTEND;TZID=Europe/Rome:20171021T180000
DTSTAMP:20260423T063416
CREATED:20171010T112021Z
LAST-MODIFIED:20171017T083802Z
UID:2114-1508491800-1508608800@www.humanamedicina.eu
SUMMARY:Riconnettersi  al proprio potenziale di benessere
DESCRIPTION:Obiettivo: \n– Recuperare potere sul tuo benessere\, sulla tua salute\, sulla tua vita\n– Scoprire e sperimentare delle vie di facile applicazione per superare ogni disarmonia fisica\, psicologica o spirituale in autonomia.\n– Comprendere meglio come funziona il nostro sistema corpo-mente-spirito
URL:https://www.humanamedicina.eu/evento/riconnettersi-al-potenziale-benessere/
LOCATION:Aosta\, Aosta\, Italia
CATEGORIES:Seminari
ORGANIZER;CN="Dott.ssa Sophie Ott":MAILTO:info@bioconsapevolezza.com
END:VEVENT
BEGIN:VEVENT
DTSTART;TZID=Europe/Rome:20171007T150000
DTEND;TZID=Europe/Rome:20171007T193000
DTSTAMP:20260423T063416
CREATED:20170721T101709Z
LAST-MODIFIED:20170721T104120Z
UID:1788-1507388400-1507404600@www.humanamedicina.eu
SUMMARY:Le cure palliative
DESCRIPTION:Di cosa si tratta?\nQuando il decorso della malattia diventa irreversibile si evidenzia sovente un complesso quadro di problemi definito come “dolore totale”: oltre ai problemi fisici si possono manifestare sofferenza psicologica e spirituale\, difficoltà nei rapporti interpersonali e sociali\, ma anche problemi di natura economica. Prendersi cura del malato inguaribile significa quindi affrontare tutti questi diversi aspetti della sofferenza umana\, applicando così la filosofia delle Cure palliative. In questo seminario analizzeremo il significato delle cure palliative e di come vengono applicate\, qual è il momento in cui diventano necessarie e come fare per accedervi. Parleremo inoltre dei problemi etici legati al fine vita. \nDocenti\nDaniela Cravanzola\, medico\, si interessa dal 1996 della tematiche inerenti la relazione medico-paziente e la fine della vita. Perfezionatasi in tanatologia con Cesare Boni all’Università Federico II di Napoli nel 2003\, si forma in Accompagnamento Spirituale con l’Associazione Rigpa e in Accompagnamento empatico con Tonglen\, mentre svolge l’attività di medico palliativista per la FARO di Lanzo Torinese. Dal 2006 fa parte come volontaria del Servizio di Accompagnamento Empatico della Sofferenza nella fase terminale della vita dell’associazione Tonglen\, ove è ora anche formatrice.\n \nNicola Coppola\, medico\, ha lavorato subito dopo la laurea con pazienti malati di AIDS. Nel 2010 ha seguito il corso di Accompagnamento dell’Associazione Tonglen. Dal 2013 fa parte come volontario del Servizio di Accompagnamento Empatico della Sofferenza nella fase terminale della vita dell’associazione Tonglen. Frequenta il Master di 2° livello in Cure Palliative dell’Università di Torino\, con tirocinio presso l’Hospice di Lanzo Torinese\, Master in Studi sulla morte e il morire per il sostegno e l’accompagnamento” presso l’Università di Padova. \nA chi si rivolge\nA tutti coloro che sono a contatto con la malattia e il fine vita e a chi desidera semplicemente informarsi meglio su come affrontarlo.
URL:https://www.humanamedicina.eu/evento/le-cure-palliative/
LOCATION:Associazione Tonglen\, via Massena\, 82\, Torino\, TO\, 10128\, Italia
CATEGORIES:Associazione Tonglen,Seminari
ATTACH;FMTTYPE=image/jpeg:https://www.humanamedicina.eu/wp-content/uploads/2017/07/logo_tonglen.jpg
ORGANIZER;CN="Associazione Tonglen":MAILTO:tonglen@libero.it
END:VEVENT
BEGIN:VEVENT
DTSTART;TZID=Europe/Rome:20171007T140000
DTEND;TZID=Europe/Rome:20171007T183000
DTSTAMP:20260423T063416
CREATED:20171010T113525Z
LAST-MODIFIED:20171010T113706Z
UID:2129-1507384800-1507401000@www.humanamedicina.eu
SUMMARY:Laboratorio terapeutico
DESCRIPTION:Programma: Il pomeriggio si svolge affrontando in sequenza le tematiche portate dai partecipanti. La dott.ssa Sophie Ott lavorerà\, scegliendo le tecniche terapeutiche più appropriate ad ogni caso. \nAttenzione: solo 6 partecipanti hanno la possibilità di lavorare direttamente sul loro caso. \nIl Laboratorio terapeutico è un’opportunità: \n\nPer le persone che vogliono sottoporre una loro problematica alla dott.ssa Sophie Ott\, nell’obiettivo di individuare la radice del problema\, acquisire informazioni e sperimentare strumenti per avviare la guarigione\, con il supporto del gruppo.\nPer le persone semplicemente curiose di scoprire l’approccio della dott.ssa Sophie Ott da un punto di vista molto pratico. La pratica mostra che i partecipanti\, anche se non portano e lavorano direttamente sul loro caso proprio\, beneficiano – spesso in grande misura – dell’assistere e partecipare al lavoro con gli altri.\nPer i terapeuti che hanno seguito la formazione di “Fare la Buona Domanda” con la dott.ssa Sophie Ott\, come follow up\, per imparare ancora tramite casi clinici concreti. Dalle 18.30 alle 19.30 sarà possibile rimanere per una condivisione e approfondimento sui casi incontrati.\n\nMaggiori informazioni qui – Laboratorio terapeutico
URL:https://www.humanamedicina.eu/evento/laboratorio-terapeutico/
LOCATION:Piacenza\, Stradone Farnese\, Piacenza\, PC\, Italia
CATEGORIES:Incontri e presentazioni
ORGANIZER;CN="Dott.ssa Sophie Ott":MAILTO:info@bioconsapevolezza.com
END:VEVENT
BEGIN:VEVENT
DTSTART;TZID=Europe/Rome:20170925T190000
DTEND;TZID=Europe/Rome:20170925T213000
DTSTAMP:20260423T063416
CREATED:20170721T101413Z
LAST-MODIFIED:20170721T122704Z
UID:1784-1506366000-1506375000@www.humanamedicina.eu
SUMMARY:Quella bella natura che cura
DESCRIPTION:Natura in video per offrire un approccio terapeutico a persone affette da Alzheimer o altre malattie\, per essere un supporto nelle varie fasi della vita – dalla gestazione al commiato – e una tecnica ludo-pedagogica coi bambini.\nA stretto contatto con figure professionali che si occupano dei malati e con naturopati esperti in fito e floriterapia\, Cristina Fino ha sviluppato EXPERIENCE NATURE: i benefici della natura uniti a quelli della meditazione\, attraverso filmati realizzati e finalizzati per stimolare la visione prolungata contemplativa. Una particolare tecnica audiovisiva che si basa su frequenze e cicli precisi\, in grado di agire sul sistema nervoso centrale apportando un profondo rilassamento e uno stato di benessere generale.\nUna collana di temi di ambienti\, stagioni\, elementi\, colori diversi\, appositamente creati per dar vita a un metodo che agisca con particolare efficacia e precisione sulle diverse patologie\, o semplicemente sui diversi stati d’animo\, momento per momento\, in tempo reale.\nPoiché l’occhio è in collegamento col sistema vegetativo e questi a sua volta è collegato a tutti gli organi\, è comprensibile come attraverso l’occhio si possa riuscire ad avere un effetto su tutta la persona\, a livello fisico\, emotivo\, mentale\, spirituale.\nLe vibrazioni cromatiche – soprattutto espresse dai fiori – la forza degli elementi\, i rimedi di piante e fiori officinali trasmesse dalle immagini permettono di utilizzare i filmati con un’efficacia quasi chirurgica\, consentendo di offrire un valido aiuto in caso di disagio e di prevenirne l’insorgenza grazie a una migliore qualità di vita.\nLe immagini fanno sì che ognuno possa riconoscere\, nella bellezza e vitalità della natura proposta\, un legame familiare\, in grado di attivare la propria memoria emozionale. E ricordare momenti piacevoli della propria vita indubbiamente aiuta a ritrovare serenità e buonumore.\nEXPERIENCE NATURE è un metodo che consente molteplici attività\, ma è soprattutto uno strumento a disposizione\, che si plasma alla fantasia e sensibilità di chi lo utilizza\, esattamente come una tavolozza di colori in mano al pittore. \nDocente/Autrice \nCristina Fino\, fotografa e regista\, per trent’anni si è occupata della comunicazione audiovisiva di importanti enti pubblici e privati\, e realizzazione di videoinstallazioni mussali a livello italiano. Da queste esperienze – unitamente a ricerche personali sulla contemplazione\, sulla visione dei popoli nativi e sulla cromoterapia – nasce l’idea di proporre quadri viventi di natura che per la loro bellezza\, familiarità e armonia\, siano in grado di catturare l’attenzione e di “accompagnare” lo spettatore a sperimentare una forma di osservazione profonda indotta dalle immagini\, senza bisogno di esperienza o di consapevolezza sulle azioni di meditazione. \nL’incontro fortunato con Letizia Espanoli – grande esperta del mondo della demenza e ideatrice del Sente-Mente Project – ha fatto sì che l’idea originale di riavvicinare l’uomo alla natura venisse riconosciuta come utile al mondo sociosanitario\, come oasi riposante e rigenerante per le persone malate di Alzheimer. \nDal 2013 sempre più strutture utilizzano i filmati\, con importanti riscontri misurati sulla qualità di vita di malati\, familiari e operatori di cura.
URL:https://www.humanamedicina.eu/evento/quella-bella-natura-cura/
LOCATION:Associazione Tonglen\, via Massena\, 82\, Torino\, TO\, 10128\, Italia
CATEGORIES:Associazione Tonglen,Incontri e presentazioni
ATTACH;FMTTYPE=image/jpeg:https://www.humanamedicina.eu/wp-content/uploads/2017/07/logo_tonglen.jpg
ORGANIZER;CN="Associazione Tonglen":MAILTO:tonglen@libero.it
END:VEVENT
BEGIN:VEVENT
DTSTART;TZID=Europe/Rome:20150911T080000
DTEND;TZID=Europe/Rome:20150913T170000
DTSTAMP:20260423T063416
CREATED:20170911T050030Z
LAST-MODIFIED:20170911T050707Z
UID:1957-1441958400-1442163600@www.humanamedicina.eu
SUMMARY:Nardò: sulle tracce del Terzo Paradiso
DESCRIPTION:
URL:https://www.humanamedicina.eu/evento/nardo-sulle-tracce-del-terzo-paradiso/
LOCATION:Comune di Nardò\, Nardò\, Lecce\, Italia
CATEGORIES:Convegni,Humana Medicina
ATTACH;FMTTYPE=image/png:https://www.humanamedicina.eu/wp-content/uploads/2017/09/Terzo-Paradiso-convegno-a-Nardò-LE.png
ORGANIZER;CN="Humana Medicina":MAILTO:info@humanamedicina.eu
END:VEVENT
END:VCALENDAR