BEGIN:VCALENDAR
VERSION:2.0
PRODID:-//Humana Medicina - ECPv6.15.16//NONSGML v1.0//EN
CALSCALE:GREGORIAN
METHOD:PUBLISH
X-WR-CALNAME:Humana Medicina
X-ORIGINAL-URL:https://www.humanamedicina.eu
X-WR-CALDESC:Eventi per Humana Medicina
REFRESH-INTERVAL;VALUE=DURATION:PT1H
X-Robots-Tag:noindex
X-PUBLISHED-TTL:PT1H
BEGIN:VTIMEZONE
TZID:Europe/Rome
BEGIN:DAYLIGHT
TZOFFSETFROM:+0100
TZOFFSETTO:+0200
TZNAME:CEST
DTSTART:20250330T010000
END:DAYLIGHT
BEGIN:STANDARD
TZOFFSETFROM:+0200
TZOFFSETTO:+0100
TZNAME:CET
DTSTART:20251026T010000
END:STANDARD
BEGIN:DAYLIGHT
TZOFFSETFROM:+0100
TZOFFSETTO:+0200
TZNAME:CEST
DTSTART:20260329T010000
END:DAYLIGHT
BEGIN:STANDARD
TZOFFSETFROM:+0200
TZOFFSETTO:+0100
TZNAME:CET
DTSTART:20261025T010000
END:STANDARD
BEGIN:DAYLIGHT
TZOFFSETFROM:+0100
TZOFFSETTO:+0200
TZNAME:CEST
DTSTART:20270328T010000
END:DAYLIGHT
BEGIN:STANDARD
TZOFFSETFROM:+0200
TZOFFSETTO:+0100
TZNAME:CET
DTSTART:20271031T010000
END:STANDARD
BEGIN:DAYLIGHT
TZOFFSETFROM:+0100
TZOFFSETTO:+0200
TZNAME:CEST
DTSTART:20280326T010000
END:DAYLIGHT
BEGIN:STANDARD
TZOFFSETFROM:+0200
TZOFFSETTO:+0100
TZNAME:CET
DTSTART:20281029T010000
END:STANDARD
END:VTIMEZONE
BEGIN:VEVENT
DTSTART;TZID=Europe/Rome:20260323T100000
DTEND;TZID=Europe/Rome:20260324T183000
DTSTAMP:20260422T050334
CREATED:20260310T104354Z
LAST-MODIFIED:20260310T164126Z
UID:7542-1774260000-1774377000@www.humanamedicina.eu
SUMMARY:UR-RA - Poesia\, Mistica\, Linguaggio: la trinamica come poetica del dialogo e responsabilità dell’arte
DESCRIPTION:UR-RA  (Unity of Religions\, Responsibility of Art) \nConvegno Internazionale: Poesia\, Mistica\, Linguaggio \nLa trinamica come poetica del dialogo e responsabilità dell’arte \nLunedì 23 e martedì 24 marzo 2026\, dalle ore 10.00 alle ore 18.30 \nalla Reggia di Monza\, viale Brianza 1\, Monza (MB) – Ingresso Libero \nScarica qui:  locandina convegno URRA Monza \n  \nIl primo dei quattro convegni legati alla mostra UR-RA\, alla Reggia Reale di Monza. \nLa prima giornata si aprirà con la keynote della poetessa Rosaria Lo Russo\, tra le voci più incisive della poesia performativa italiana. Seguiranno due sessioni con gli interventi di: Antonio Spadaro\, Sottosegretario del Dicastero Vaticano per la Cultura e l’Educazione e tra i promotori dell’ideazione del convegno; Joseph Levi\, già rabbino capo della Comunità Ebraica di Firenze fino al 2017; Swamini Shuddhananda Ghiri\, monaca induista del Matha Gitananda Ashram; Carlo Serra\, studioso e docente di Estetica dell’immagine e dei Nuovi media e filosofia del suono e della musica; Francesco Spagnolo\, musicologo specializzato nelle tradizioni musicali ebraiche in Italia; ed Elena Mucciarelli\, impegnata nella ricerca sul periodo vedico e sulle forme del linguaggio rituale. \nLa prima giornata del Convegno culminerà in un dialogo moderato da Francesco Monico tra Elio Franzini\, professore ordinario di Estetica presso l’Università degli Studi di Milano\, e il maestro Michelangelo Pistoletto\, e si concluderà con una lettura performativa e partecipativa del duo artistico VestAndPage (Verena Stenke & Andrea Pagnes)\, duo attivo dal 2006 nella performance art e nella ricerca transdisciplinare tra azione dal vivo\, scrittura e curatela. \nLa seconda giornata si aprirà con la keynote di Michelangelo Pistoletto e proseguirà con sessioni dedicate alla poesia come pratica di relazione e corporeità: voce\, gesto\, presenza.   Interverranno le filosofe e i filosofi di estetica Deianira Amico (Università di Milano Statale)\, Laura Boella (Università di Milano Statale)\, Roberto Diodato (Università Cattolica del Sacro Cuore)\, Paolo Furia (Università di Torino)\, insieme alle voci poetiche di Dome Bulfaro\, Franca Mancinelli\, Claudio Damiani\, Giovanna Cristina Vivinetto\, Giuseppe Conte\, Laura Pugno\, Giorgiomaria Cornelio e alla traduttrice e docente di Lingue e Letteratura Persiana all’Università di Bologna Faezeh Mardani. \nMomento conclusivo dell’incontro sarà la redazione collettiva del Manifesto della Poesia Trinamica\, pensato come esito teorico e operativo del simposio e come contributo al ripensamento del linguaggio e dell’immaginario nel XXI secolo. \nPer approfondimenti clicca qui:  \nMaggiori dettagli sulla mostra al link: https://reggiadimonza.it/cosa-accade/pistoletto/ \nPer una più ampia biografia del Maestro Michelangelo Pistoletto\, presentazione del suo lavoro\, elenco completo delle mostre\, testi dell’artista e bibliografia\, si rimanda al sito ufficiale: www.pistoletto.it
URL:https://www.humanamedicina.eu/evento/ur-ra-poesia-mistica-linguaggio-la-trinamica-come-poetica-del-dialogo-e-responsabilita-dellarte/
LOCATION:Reggia di Monza – Monza (MB)
CATEGORIES:Convegni,Eventi in evidenza
ATTACH;FMTTYPE=image/png:https://www.humanamedicina.eu/wp-content/uploads/2026/03/Screenshot-2026-03-10-alle-11.12.24.png
END:VEVENT
BEGIN:VEVENT
DTSTART;TZID=Europe/Rome:20260415T203000
DTEND;TZID=Europe/Rome:20260415T223000
DTSTAMP:20260422T050334
CREATED:20260318T204858Z
LAST-MODIFIED:20260318T205743Z
UID:7575-1776285000-1776292200@www.humanamedicina.eu
SUMMARY:La relazione è un farmaco??
DESCRIPTION:In ambito sanitario\, la cura non passa solo attraverso diagnosi\, terapie e tecnologie\, ma anche attraverso la qualità della relazione tra professionisti della salute e pazienti. L’ascolto\, l’empatia\, la fiducia e la comunicazione diventano elementi fondamentali del processo di cura\, capaci di influenzare il benessere della persona e l’efficacia dei trattamenti.\nQuesta riflessione invita a considerare la relazione come una vera e propria risorsa terapeutica: uno spazio in cui competenza clinica e umanità si incontrano\, contribuendo insieme al percorso di guarigione e di assistenza. \nDiretta Zoom\, Mercoledì 15 aprile\, dalle ore 20.30 alle 22.30 \n  \nINTRODUCE E MODERA: \n–       Luisa MERATI medico psicologo clinico psicoterapeuta vicepresidente SIMP \n  \nINTERVENGONO: \n–       Pietro MARTELLUCCI\, psicologo clinico\, conduttore gruppi Balint-Docente a.c. Psicologia Generale Università di Siena\, Presidente Istituto Formazione Psicosomatica “Massimo Rosselli” Firenze\, Direttivo SIMP\nLA RELAZIONE COME CURA DEL CURANTE \n–       Rossana BECARELLI\, medico antropologo\, Presidente RETE Euromediterranea per l’Umanizzazione della Medicina\, Naviglio Grande SIMP\nGLI OSTACOLI ALLA BUONA RELAZIONE IN AMBITO SANITARIO \n  \nDISCUSSIONE \n  \nPer ricevere il link di accesso alla diretta Zoom inviare e-mail a: info@medicinapsicosomatica.org \nScarica locandina e programma: La relazione è un farmaco?
URL:https://www.humanamedicina.eu/evento/la-relazione-e-un-farmaco/
CATEGORIES:Eventi in evidenza,Evento in diretta streaming
ATTACH;FMTTYPE=image/png:https://www.humanamedicina.eu/wp-content/uploads/2026/03/Screenshot-2026-03-18-alle-21.37.35.png
END:VEVENT
BEGIN:VEVENT
DTSTART;TZID=Europe/Rome:20260901T080000
DTEND;TZID=Europe/Rome:20270601T170000
DTSTAMP:20260422T050334
CREATED:20260314T163144Z
LAST-MODIFIED:20260315T101716Z
UID:7559-1788249600-1811869200@www.humanamedicina.eu
SUMMARY:Master in Metodo Simonton Integrato
DESCRIPTION:Presentazione online: mercoledì 18 marzo\, alle ore 18.00 e  giovedì 14 maggio alle ore 19.00 \nInformazioni e Iscrizioni: formazionesimonton@c6siloku.com \nIl Master in Metodo Simonton Integrato è un percorso formativo dedicato alla comprensione e all’applicazione del Metodo Simonton\, un approccio psico-oncologico sviluppato dal radioterapista Carl Simonton. Questo metodo integra mente\, emozioni e corpo nel percorso di cura\, con l’obiettivo di migliorare la qualità della vita delle persone che affrontano malattie gravi\, in particolare il cancro. \nIl percorso formativo si svolgerà in presenza\, a Milano\, da settembre 2026 a giugno 2027 \nIl master fornisce strumenti pratici e teorici per utilizzare tecniche di gestione dello stress\, visualizzazione guidata\, supporto emotivo e sviluppo delle risorse interiori. L’approccio si basa su evidenze della psico-oncologia e della psiconeuroimmunologia\, sottolineando il ruolo delle emozioni\, delle credenze e dello stile di vita nel sostenere il processo di cura. \nIl percorso è rivolto a professionisti della salute\, counselor\, psicologi\, coach e operatori del benessere che desiderano integrare un approccio mente-corpo nella propria pratica professionale. Attraverso lezioni teoriche\, esercitazioni pratiche e lavoro esperienziale\, i partecipanti imparano a supportare le persone nel rafforzare le proprie risorse interiori\, favorendo resilienza\, speranza e partecipazione attiva al proprio percorso di salute. \nMaggiori dettagli\, programma e modalità di partecipazione cliccando qui: 2°Master Metodo Simonton Integrato
URL:https://www.humanamedicina.eu/evento/7559/
LOCATION:Milano
CATEGORIES:Eventi in evidenza,Percorsi formativi
ATTACH;FMTTYPE=image/jpeg:https://www.humanamedicina.eu/wp-content/uploads/2026/03/percorso-merati.jpg
END:VEVENT
END:VCALENDAR