BEGIN:VCALENDAR
VERSION:2.0
PRODID:-//Humana Medicina - ECPv6.15.16//NONSGML v1.0//EN
CALSCALE:GREGORIAN
METHOD:PUBLISH
X-ORIGINAL-URL:https://www.humanamedicina.eu
X-WR-CALDESC:Eventi per Humana Medicina
REFRESH-INTERVAL;VALUE=DURATION:PT1H
X-Robots-Tag:noindex
X-PUBLISHED-TTL:PT1H
BEGIN:VTIMEZONE
TZID:Europe/Rome
BEGIN:DAYLIGHT
TZOFFSETFROM:+0100
TZOFFSETTO:+0200
TZNAME:CEST
DTSTART:20240331T010000
END:DAYLIGHT
BEGIN:STANDARD
TZOFFSETFROM:+0200
TZOFFSETTO:+0100
TZNAME:CET
DTSTART:20241027T010000
END:STANDARD
BEGIN:DAYLIGHT
TZOFFSETFROM:+0100
TZOFFSETTO:+0200
TZNAME:CEST
DTSTART:20250330T010000
END:DAYLIGHT
BEGIN:STANDARD
TZOFFSETFROM:+0200
TZOFFSETTO:+0100
TZNAME:CET
DTSTART:20251026T010000
END:STANDARD
BEGIN:DAYLIGHT
TZOFFSETFROM:+0100
TZOFFSETTO:+0200
TZNAME:CEST
DTSTART:20260329T010000
END:DAYLIGHT
BEGIN:STANDARD
TZOFFSETFROM:+0200
TZOFFSETTO:+0100
TZNAME:CET
DTSTART:20261025T010000
END:STANDARD
BEGIN:DAYLIGHT
TZOFFSETFROM:+0100
TZOFFSETTO:+0200
TZNAME:CEST
DTSTART:20270328T010000
END:DAYLIGHT
BEGIN:STANDARD
TZOFFSETFROM:+0200
TZOFFSETTO:+0100
TZNAME:CET
DTSTART:20271031T010000
END:STANDARD
END:VTIMEZONE
BEGIN:VEVENT
DTSTART;TZID=Europe/Rome:20250630T093000
DTEND;TZID=Europe/Rome:20260325T180000
DTSTAMP:20260421T145118
CREATED:20240328T104602Z
LAST-MODIFIED:20251231T212002Z
UID:6335-1751275800-1774461600@www.humanamedicina.eu
SUMMARY:Corso annuale in Abilità di Counseling in Oncologia
DESCRIPTION:Il Corso è riconosciuto da AssoCounseling. Alla fine del percorso viene rilasciato un attestato di partecipazione che riporta gli estremi del riconoscimento di AssoCounseling. \nIl percorso è circolare e consente di iniziare in qualsiasi momento dell’anno (compatibilmente con i posti disponibili). Sono aperte le iscrizioni. \nIl Corso è rivolto a operatori impegnati\, a vario titolo e professionalità\, nel comparto socio-sanitario-assistenziale e ai caregiver famigliari.  \nObiettivi formativi: acquisire le abilità necessarie per gestire le fragilità e i bisogni del malato con empatia e giusta distanza; favorire la comunicazione quale strumento di promozione della qualità della vita e di self-empowerment del malato; favorire i processi di auto-osservazione\, consapevolezza e padronanza di sé e delle proprie emozioni dell’operatore/caregiver; prevenire lo stress emozionale e il burnout. \nOrganizzazione didattica: Il Corso si sviluppa in 105 ore di formazione teorico-pratico-esperienziale in presenza. Il modello di counseling proposto è quello del Counseling centrato sulla persona secondo C.Rogers integrato con tecniche corpo-mente-energia (Mindfulness\, bioenergetica secondo A.Lowen\, counseling clinico secondo C.Simonton\, tecniche di rilassamento e immaginative\, principi di Medicina integrata). Gli incontri si svolgono nei week end. \nSede del Corso e Segreteria Organizzativa: Associazione REF\, via Morimondo 5\, 20143 Milano\, tel. 02.36553120\, fax 02.36553121; info@associazioneref.org; www.associazioneref.org \nIl corso fornisce 105 crediti formativi per proseguire con il nostro corso triennale di Counseling Integrato CoMeTE.
URL:https://www.humanamedicina.eu/evento/corso-annuale-in-abilita-di-counseling-in-oncologia/
LOCATION:Associazione REF\, via Morimondo\, 5\, Milano\, 20143\, Italia
CATEGORIES:Associazione REF,Eventi in evidenza,Formazione,Percorsi formativi
ATTACH;FMTTYPE=image/jpeg:https://www.humanamedicina.eu/wp-content/uploads/2024/03/Volantino-Abilita-di-counseling-in-Oncologia-e1711622718736.jpg
ORGANIZER;CN="Associazione REF":MAILTO:info@associazioneref.org
END:VEVENT
BEGIN:VEVENT
DTSTART;TZID=Europe/Rome:20250927T200000
DTEND;TZID=Europe/Rome:20260630T170000
DTSTAMP:20260421T145118
CREATED:20250226T152858Z
LAST-MODIFIED:20251231T212117Z
UID:6718-1759003200-1782838800@www.humanamedicina.eu
SUMMARY:Metodo Simonton Integrato: Percorso Formativo per la Cura di Malati Oncologici e Cronici
DESCRIPTION:Master “Metodo Simonton Integrato: Percorso Formativo per la Cura di Malati Oncologici e Cronici” rivolto a medici e altri operatori sanitari. \nIl metodo Simonton poggia le sue basi scientifiche sulla PNEI (PsicoNeuroEndocrinoImmunologia) e viene integrato con pratiche di autoipnosi. \nIn corso l’accreditamento ECM per 50 crediti nel 2025 e 50 crediti nel 2026. \nL’inizio del master è previsto per il 27 settembre 2025. \nPRESENTAZIONE DEL PROGRAMMA: \n\nquesta sera\, 26 febbraio\, presentazione ONLINE\, dalle ore 20 alle 21.30\ne IN PRESENZA\, sabato 8 marzo 2025\, dalle ore 10.00 alle ore 13.00\, presso SIMP – Naviglio Grande\, via Giambellino 84 – MILANO\n\nISCRIZIONI E INFORMAZIONI: formazionesimonton@c6siloku.com \nLOCANDINA:  \nPROGRAMMA:
URL:https://www.humanamedicina.eu/evento/metodo-simonton-integrato-percorso-formativo-per-la-cura-di-malati-oncologici-e-cronic/
LOCATION:SIMP\, via Giambellino\, 84\, MILANO
CATEGORIES:Eventi in evidenza
ATTACH;FMTTYPE=image/jpeg:https://www.humanamedicina.eu/wp-content/uploads/2025/02/28153984-862d-43aa-a497-00d22e2c0f22.jpg
END:VEVENT
BEGIN:VEVENT
DTSTART;TZID=Europe/Rome:20260207T093000
DTEND;TZID=Europe/Rome:20260208T190000
DTSTAMP:20260421T145118
CREATED:20251231T154858Z
LAST-MODIFIED:20260123T214519Z
UID:7300-1770456600-1770577200@www.humanamedicina.eu
SUMMARY:LOVE HEALS: seminario pratico  con Franco Bianchi
DESCRIPTION:Love Heals\, sintesi di psicologia occidentale e filosofia orientale\, è una tecnica di riequilibrio energetico che esplora la relazione esistente tra il nostro corpo\, le nostre emozioni\, la nostra mente e la nostra intera vita\, e ci permette di scoprire come il nostro corpo sia lo specchio della nostra coscienza e che ogni sintomo è un messaggio per noi. \n\nNel seminario\, oltre ad una tecnica di riequilibrio energetico\, si apprendono anche strumenti pratici per una maggiore conoscenza di sé stessi che ci consentono\, in caso di disequilibrio\, di ritornare ad uno stato di armonia\, benessere\, centratura. \n\n  \nSEMINARIO PRATICO in presenza con Franco Bianchi                                                                                                 sabato 7 e domenica 8 febbraio 2026\, a TORINO\, c/o Hotel Victoria\, Via Nino Costa\, 4                                con orario: sabato e domenica dalle ore 9.30 alle 19.00 circa   \n  \nRecentemente è stato pubblicato da Tecniche Nuove l’ultimo libro di Franco Bianchi \,“LA COSCIENZA E’ UN FARMACO”\, in cui l’autore descrive 250 sintomi da un punto di vista energetico e psicosomatico. \n  \nINFORMAZIONI e ISCRIZIONI: rosetta.sambati@gmail.com – 339 4035012 \n  \nFranco Bianchi\, laureato in Economia alla Bocconi\, si occupa da oltre quarant’anni di percorsi di consapevolezza. Ha creato un suo metodo – BE HAPPY NOW – che divulga essenzialmente attraverso quattro suoi seminari. Nel 2015 è stato pubblicato da Tecniche Nuove il suo libro\, ESSERE FELICI ORA\, nel quale descrive le basi del suo Metodo\, e recentemente è stato pubblicato il suo ultimo libro ”LA COSCIENZA E’ UN FARMACO. Ha collaborato per qualche tempo con l’Ospedale Regionale di Monza in un progetto con un gruppo di ammalati di leucemia\, progetto che va visto in un’ottica di Medicina Integrata ed  ha avuto dei risultati molto positivi ed incoraggianti. Nel 2009 ha fondato una scuola per Operatori Olistici\, riconosciuta dalla S.I.A.F\, così come lo sono i suoi seminari.
URL:https://www.humanamedicina.eu/evento/presentazione-online-del-seminario-love-heals-con-franco-bianchi/
LOCATION:Hotel Victoria\, Via Nino Costa 4\, Torino
CATEGORIES:Eventi in evidenza,Seminari
ATTACH;FMTTYPE=image/jpeg:https://www.humanamedicina.eu/wp-content/uploads/2025/12/Franco-con-poster-chakra.jpeg
END:VEVENT
END:VCALENDAR